BEGIN:VCALENDAR
VERSION:2.0
PRODID:-//wp-events-plugin.com//7.2.3.1//EN
TZID:Europe/Paris
X-WR-TIMEZONE:Europe/Paris
BEGIN:VEVENT
UID:403@prieure-saint-remy.fr
DTSTART;TZID=Europe/Paris:20251004T170000
DTEND;TZID=Europe/Paris:20251004T210000
DTSTAMP:20250712T154828Z
URL:https://www.prieure-saint-remy.fr/les-rendez-vous-du-prieure/anjour-nu
 it-visite-du-prieure-autour-des-cinq-sens/
SUMMARY:Anjou'R & Nuit | Visite du Prieuré autour des cinq sens
DESCRIPTION:L'Office de Tourisme Anjou Vignoble et Villages organise\, les 
 4 et 5 octobre prochains\, Anjou'r &amp\; Nuit. Au cours de ces deux jours
 \, cet événement sportif souhaite mettre en lumière le patrimoine et le
  savoir-faire local. Des trails\, des randonnées pédestres\, des visites
  patrimoniales\, des activités œnologiques et gustatives et bien d’aut
 res sont proposés tout au long de ces deux jours de festivités.\n\nÀ ce
 tte occasion\, découvrez le Prieuré de Saint-Rémy-la-Varenne d'une autr
 e manière grâce à une visite autour des cinq sens ! Plusieurs ateliers 
 vous permettront de découvrir les matériaux de construction du monument\
 , sa magnifique cheminée Renaissance ainsi que la Cucubeer\, bière à la
  courge produite par La Piautre et liée à notre fête des Hortomnales.\n
 \nDeux visites le samedi 4 octobre 2025 à 17 h et 19 h\n\nRéservez votre
  place en cliquant ici !\n\nTout au long du week-end\, un programme d’un
 e dizaine d’activités seront proposées dans le Vignoble Angevin. Des t
 hématiques variées pour plaire à tous : patrimoine\, sport\, culture\,
  gastronomie\, vignoble et bien d’autres…\n\n\n\n&nbsp\;
ATTACH;FMTTYPE=image/jpeg:https://www.prieure-saint-remy.fr/wp-content/upl
 oads/2025/06/DSC1657-scaled.jpg
END:VEVENT
BEGIN:VTIMEZONE
TZID:Europe/Paris
X-LIC-LOCATION:Europe/Paris
BEGIN:DAYLIGHT
DTSTART:20250330T030000
TZOFFSETFROM:+0100
TZOFFSETTO:+0200
TZNAME:CEST
END:DAYLIGHT
END:VTIMEZONE
END:VCALENDAR