BEGIN:VCALENDAR
VERSION:2.0
PRODID:-//wp-events-plugin.com//7.2.3.1//EN
TZID:Europe/Paris
X-WR-TIMEZONE:Europe/Paris
BEGIN:VEVENT
UID:173@prieure-saint-remy.fr
DTSTART;TZID=Europe/Paris:20220210T100000
DTEND;TZID=Europe/Paris:20220210T120000
DTSTAMP:20220202T101800Z
URL:https://www.prieure-saint-remy.fr/les-rendez-vous-du-prieure/atelier-c
 reatif-mangeoires-pour-les-oiseaux/
SUMMARY:Atelier créatif : mangeoires pour les oiseaux
DESCRIPTION:Un atelier à vivre en famille pour fabriquer des mangeoires or
 iginales pour les oiseaux et des boules à graines maison.\n\nA partir de 
 5 ans.\n\nRéservation indispensable : places limitées\n\nLe pass est dem
 andé pour les plus de 12 ans (Le Prieuré est un Établissement Recevant 
 du Public)
ATTACH;FMTTYPE=image/jpeg:https://www.prieure-saint-remy.fr/wp-content/upl
 oads/2022/02/mesange.jpg
CATEGORIES:Ateliers créatifs
END:VEVENT
BEGIN:VTIMEZONE
TZID:Europe/Paris
X-LIC-LOCATION:Europe/Paris
BEGIN:STANDARD
DTSTART:20211031T020000
TZOFFSETFROM:+0200
TZOFFSETTO:+0100
TZNAME:CET
END:STANDARD
END:VTIMEZONE
END:VCALENDAR