BEGIN:VCALENDAR
VERSION:2.0
PRODID:-//wp-events-plugin.com//7.2.3.1//EN
TZID:Europe/Paris
X-WR-TIMEZONE:Europe/Paris
BEGIN:VEVENT
UID:347@prieure-saint-remy.fr
DTSTART;TZID=Europe/Paris:20240813T100000
DTEND;TZID=Europe/Paris:20240813T120000
DTSTAMP:20240620T084710Z
URL:https://www.prieure-saint-remy.fr/les-rendez-vous-du-prieure/atelier-c
 reatif-musique-verte-et-instruments-de-la-nature/
SUMMARY:Atelier créatif : musique verte et instruments de la nature
DESCRIPTION:Un atelier à vivre en famille pour créer des instruments de m
 usique avec des éléments naturels : certains arbres ou arbustes nous per
 mettent d'être très créatifs !\n\nA partir de 6 ans.\n\nRéservation in
 dispensable : places limitées\n\n&nbsp\;
ATTACH;FMTTYPE=image/jpeg:https://www.prieure-saint-remy.fr/wp-content/upl
 oads/2022/02/musique-verte-creditPhoto-DIPLT.jpg
CATEGORIES:Ateliers créatifs
END:VEVENT
BEGIN:VTIMEZONE
TZID:Europe/Paris
X-LIC-LOCATION:Europe/Paris
BEGIN:DAYLIGHT
DTSTART:20240331T030000
TZOFFSETFROM:+0100
TZOFFSETTO:+0200
TZNAME:CEST
END:DAYLIGHT
END:VTIMEZONE
END:VCALENDAR