BEGIN:VCALENDAR
VERSION:2.0
PRODID:-//wp-events-plugin.com//7.2.3.1//EN
TZID:Europe/Paris
X-WR-TIMEZONE:Europe/Paris
BEGIN:VEVENT
UID:410@prieure-saint-remy.fr
DTSTART;TZID=Europe/Paris:20260426T150000
DTEND;TZID=Europe/Paris:20260426T183000
DTSTAMP:20260420T083314Z
URL:https://www.prieure-saint-remy.fr/les-rendez-vous-du-prieure/cest-lanj
 ou-qui-chante-animaux/
SUMMARY:C'est l'Anjou qui chante... les animaux
DESCRIPTION:2 séances : 15h et 17h\n\nLe groupe Ellébore et ses invité-e
 s du groupe Bouine Bouzine continuent de puiser dans le riche répertoire 
 traditionnel collecté au début du 20ème siècle en Anjou par A J Verrie
 r\, professeur au lycée David d'Angers et passionné d'histoire et de cul
 ture populaire.\n\nCette année ce sont les animaux\, sauvages ou domestiq
 ues\, qui sont évoqués au travers de chansons drôles ou poétiques.\n\n
 \n\nEn savoir plus sur le manuscrit d'Anatole Joseph Verrier et le projet 
 "C'est l'Anjou qui chante"\n\n[embed]https://www.youtube.com/watch?v=M6Ew5
 dWHaSM[/embed]\n\nRéservation au 02.41.57.32.32. ou par mail à contact@p
 rieure-saint-remy.fr\n\n&nbsp\;\n\n&nbsp\;
ATTACH;FMTTYPE=image/jpeg:https://www.prieure-saint-remy.fr/wp-content/upl
 oads/2024/12/Ellebore-St-Remy-site.jpg
CATEGORIES:Concerts,En famille
END:VEVENT
BEGIN:VTIMEZONE
TZID:Europe/Paris
X-LIC-LOCATION:Europe/Paris
BEGIN:DAYLIGHT
DTSTART:20260329T030000
TZOFFSETFROM:+0100
TZOFFSETTO:+0200
TZNAME:CEST
END:DAYLIGHT
END:VTIMEZONE
END:VCALENDAR