BEGIN:VCALENDAR
VERSION:2.0
PRODID:-//wp-events-plugin.com//7.2.3.1//EN
TZID:Europe/Paris
X-WR-TIMEZONE:Europe/Paris
BEGIN:VEVENT
UID:232@prieure-saint-remy.fr
DTSTART;TZID=Europe/Paris:20230226T170000
DTEND;TZID=Europe/Paris:20230226T170000
DTSTAMP:20230127T135031Z
URL:https://www.prieure-saint-remy.fr/les-rendez-vous-du-prieure/concert-k
 wal-et-tony-baker/
SUMMARY:Concert Kwal et Tony Baker
DESCRIPTION: “Sur la route”\, le tout nouveau répertoire conté-slam
 é de Vincent Loiseau (Kwal)\, accompagné par Tony Baker\, est riche e
 n histoires et chansons inédites : des textes inspirés par le fil des r
 encontres\, ici et ailleurs\, saisis au gré des ‘road trips’ sur les 
 routes de France\, des randonnées urbaines dans les rues d’Irlande ou d
 u Laos\, mais également nourris par les rencontres angevines au bas de la
  rue\, le fil des causeries ordinaires\, le partage des émotions avec les
  amis dans les périodes particulières. \n
ATTACH;FMTTYPE=image/jpeg:https://www.prieure-saint-remy.fr/wp-content/upl
 oads/2023/01/Image1.jpg
CATEGORIES:Concerts
END:VEVENT
BEGIN:VTIMEZONE
TZID:Europe/Paris
X-LIC-LOCATION:Europe/Paris
BEGIN:STANDARD
DTSTART:20221030T020000
TZOFFSETFROM:+0200
TZOFFSETTO:+0100
TZNAME:CET
END:STANDARD
END:VTIMEZONE
END:VCALENDAR