BEGIN:VCALENDAR
VERSION:2.0
PRODID:-//wp-events-plugin.com//7.2.3.1//EN
TZID:Europe/Paris
X-WR-TIMEZONE:Europe/Paris
BEGIN:VEVENT
UID:72@prieure-saint-remy.fr
DTSTART;TZID=Europe/Paris:20200207T203000
DTEND;TZID=Europe/Paris:20200207T203000
DTSTAMP:20200127T141321Z
URL:https://www.prieure-saint-remy.fr/les-rendez-vous-du-prieure/coup-de-v
 ian-sur-le-prieure-7/
SUMMARY:Coup de Vian sur le Prieuré
DESCRIPTION:Un voyage au cœur des chansons et textes de Boris Vian\, malic
 ieux\, poétiques…  V'là du Vian dans de beaux draps !\n\nProposé par
  Le Théâtre du Vieux Drap. Mise en scène Philippe Piau. Avec : Nelly Be
 llemère\, Philippe Drouzy\, Jean-François Lévêque\, Marie-Christine Pe
 nfrat\, Youenn Penfrat\, Cécile Sauleau.\n\n\nToutes les dates de ce spec
 tacle au Prieuré : En JANVIER samedi 18 à 18h / dimanche 19 à 16h / sam
 edi 25 à 18h / dimanche 26 à 16h / vendredi 31 à 20h30. En FÉVRIER dim
 anche 2 à 16h / vendredi 7 à 20h30 / dimanche 9 à 16h / vendredi 14 à 
 20h30 / samedi 15 à 18h / dimanche 16 à 16h.\n\nRéservation indispensab
 le\, places limitées.\n\n&nbsp\;
ATTACH;FMTTYPE=image/jpeg:https://www.prieure-saint-remy.fr/wp-content/upl
 oads/2019/12/Vian-visuel-site-internet.jpg
CATEGORIES:Spectacles (concerts, théâtres, contes)
END:VEVENT
BEGIN:VTIMEZONE
TZID:Europe/Paris
X-LIC-LOCATION:Europe/Paris
BEGIN:STANDARD
DTSTART:20191027T020000
TZOFFSETFROM:+0200
TZOFFSETTO:+0100
TZNAME:CET
END:STANDARD
END:VTIMEZONE
END:VCALENDAR