BEGIN:VCALENDAR
VERSION:2.0
PRODID:-//wp-events-plugin.com//7.2.3.1//EN
TZID:Europe/Paris
X-WR-TIMEZONE:Europe/Paris
BEGIN:VEVENT
UID:373@prieure-saint-remy.fr
DTSTART;TZID=Europe/Paris:20250628T160000
DTEND;TZID=Europe/Paris:20250628T234500
DTSTAMP:20250624T100812Z
URL:https://www.prieure-saint-remy.fr/les-rendez-vous-du-prieure/dormez-de
 -jour/
SUMMARY:Dormez de jour
DESCRIPTION:Nuit de programmation artistique\, Dormez de jour s’invite po
 ur sa première édition au Prieuré de Saint-Rémy-la-Varenne\, joyau arc
 hitectural angevin. Du théâtre de Max Aub au récital viole de gambe seu
 le jusqu’au concert de musique folk\, cette nuit culturelle intense et c
 ontrastée invitera le public à rencontrer des artistes de haute voltige\
 , habitués des scènes internationales. \nImaginé par un duo de soeur et
  frère ligériens\, la violiste Salomé Gasselin (Victoire de la musique 
 classique 2024) et le comédien et metteur en scène Théophile Gasselin\,
  ce temps du 28 juin fait dialoguer théâtre et musique dans des lieux no
 n conventionnels de l’Anjou. \nLa programmation exigeante\, ouverte et a
 ccessible conjugue en effet excellence artistique et ruralité vivante en 
 donnant une place toute particulière au terroir et à ses habitants.\nAve
 c cette première édition\, Dormez de Jour s’impose comme le rendez-vou
 s culturel à ne pas manquer pour entrer joyeusement dans l’été.\n16h 
 — Crime exemplaire (théâtre)\nD’après Max Aub. Une galerie de crimi
 nels ordinaires confessent leurs actes absurdes et humains. Humour noir et
  vertige existentiel portés par Baptiste Febvre\, Maud Meunissier et Sér
 aphin Rousseau.\n18h — Carte blanche à Garance Boizot (musique) \nPlong
 ez dans la beauté d’un instrument seul sur scène : la viole de gambe\;
  entrez le monde sonore de Garance Boizot qui au gré de ses envies et nou
 s emmène de la musique ancienne à la musique contemporaine.\n21h — Cor
 y Seznec Trio (musique)\nAvec un concert folk et blues\, Cory Seznec\, Luc
 as Henri et Paul Héroux nous entraînent dans des sons traditionnels nord
 -américain aux influences celtiques et d’Afrique de l’est.\n22h30 —
  Expériences de beauté (musique et théâtre)\nMoment de partage sensibl
 e où les artistes racontent (chacun.e à leurs manières)\, un instant d
 ’éblouissement\, un moment de rencontre personnel avec la beauté/ avec
  Garance Boizot\, Cory Seznec Trio\, Baptiste Febvre\, Maud Meunissier\, T
 héophile Gasselin\, Séraphin Rousseau et Salomé Gasselin.\n⚠️  Ja
 uge limitée : pensez à réserver dès maintenant ici → RESERVATION\n\
 n10 euros / spectacle\n\n35 euros le pass nuit pour l'ensemble\n\n&nbsp\;\
 n\n&nbsp\;\n\n&nbsp\;\n\n&nbsp\;\n\n&nbsp\;
ATTACH;FMTTYPE=image/jpeg:https://www.prieure-saint-remy.fr/wp-content/upl
 oads/2025/01/DDJ-site-2.png
CATEGORIES:Concerts,Spectacles (concerts, théâtres, contes),Théâtre
END:VEVENT
BEGIN:VTIMEZONE
TZID:Europe/Paris
X-LIC-LOCATION:Europe/Paris
BEGIN:DAYLIGHT
DTSTART:20250330T030000
TZOFFSETFROM:+0100
TZOFFSETTO:+0200
TZNAME:CEST
END:DAYLIGHT
END:VTIMEZONE
END:VCALENDAR