BEGIN:VCALENDAR
VERSION:2.0
PRODID:-//wp-events-plugin.com//7.2.3.1//EN
TZID:Europe/Paris
X-WR-TIMEZONE:Europe/Paris
BEGIN:VEVENT
UID:298@prieure-saint-remy.fr
DTSTART;TZID=Europe/Paris:20231116T200000
DTEND;TZID=Europe/Paris:20231116T213000
DTSTAMP:20231030T132629Z
URL:https://www.prieure-saint-remy.fr/les-rendez-vous-du-prieure/en-quete-
 de-sens/
SUMMARY:Soirée "En quête de sens"
DESCRIPTION:"Dans le cadre de leurs volontés de mettre en avant des initia
 tives positives et porteuses de sens pour rendre le territoire fertile\, l
 es associations Parcours Croisés et Le Jardin du Presby'terre organisent
  une projection du film "En quête de sens" au Prieuré de Saint Rémy la 
 Varenne le jeudi 16 novembre à 20h.\n\nRoad-movie international de deux j
 eunes à la recherche de sagesse et de bon sens\, ce film est porteur de m
 essages qui ne peuvent que nous interpeller. Un échange entre les spectat
 eurs sera proposé à l'issue de la projection. Venez nombreux\; les deux 
 associations organisatrices comptent sur vous!\n\nProjection suivie d'un d
 ébat.\n\n&nbsp\;\n\n&nbsp\;
ATTACH;FMTTYPE=image/jpeg:https://www.prieure-saint-remy.fr/wp-content/upl
 oads/2023/10/Affiche-transition-2.jpg
CATEGORIES:Autres activités
END:VEVENT
BEGIN:VTIMEZONE
TZID:Europe/Paris
X-LIC-LOCATION:Europe/Paris
BEGIN:STANDARD
DTSTART:20231029T020000
TZOFFSETFROM:+0200
TZOFFSETTO:+0100
TZNAME:CET
END:STANDARD
END:VTIMEZONE
END:VCALENDAR