BEGIN:VCALENDAR
VERSION:2.0
PRODID:-//wp-events-plugin.com//7.2.3.1//EN
TZID:Europe/Paris
X-WR-TIMEZONE:Europe/Paris
BEGIN:VEVENT
UID:370@prieure-saint-remy.fr
DTSTART;TZID=Europe/Paris:20250606T203000
DTEND;TZID=Europe/Paris:20250606T220000
DTSTAMP:20250528T145959Z
URL:https://www.prieure-saint-remy.fr/les-rendez-vous-du-prieure/eric-barr
 et/
SUMMARY:Soirée hommage à Eric Barret
DESCRIPTION:Éric Barret devait se produire au Prieuré le 6 Juin.\n\nVicti
 me d'une chute en montagne\, il est décédé début mars de cette année.
 \nSa sœur Geneviève qui habite St Rémy la Varenne ainsi que des musicie
 ns locaux qui l'ont bien connus ont souhaité lui rendre hommage.\n\nUn fi
 lm documentaire et des interventions musicales ponctueront cette soirée a
 vec notamment :\n\nPierrick Menuau\, saxophone\n\nDomenico Stocchi\, contr
 ebasse\n\nPascal Legal\, batterie\n\nGeneviève Barret\, cithare\, guitare
 ...\n\nÉric Barret était un saxophoniste\, chef d'orchestre et composite
 ur reconnu sur la scène jazz internationale depuis les années 1980.\n\nh
 ttps://www.radiofrance.fr/francemusique/il-etait-une-reference-sans-jamais
 -se-la-ramener-le-saxophoniste-eric-barret-nous-a-quittes-7880914\n\n&nbsp
 \;\n\n[embed]https://www.youtube.com/watch?v=TbPbkiKnTdg[/embed]\n\n\n\nR
 éservation au 02.41.57.32.32\, par mail à contact@prieure-saint-remy.fr\
 n\n\n&nbsp\;\n\n&nbsp\;
ATTACH;FMTTYPE=image/jpeg:https://www.prieure-saint-remy.fr/wp-content/upl
 oads/2024/12/Eric-Barret-site.jpg
CATEGORIES:Concerts
END:VEVENT
BEGIN:VTIMEZONE
TZID:Europe/Paris
X-LIC-LOCATION:Europe/Paris
BEGIN:DAYLIGHT
DTSTART:20250330T030000
TZOFFSETFROM:+0100
TZOFFSETTO:+0200
TZNAME:CEST
END:DAYLIGHT
END:VTIMEZONE
END:VCALENDAR