BEGIN:VCALENDAR
VERSION:2.0
PRODID:-//wp-events-plugin.com//7.2.3.1//EN
TZID:Europe/Paris
X-WR-TIMEZONE:Europe/Paris
BEGIN:VEVENT
UID:63@prieure-saint-remy.fr
DTSTART;TZID=Europe/Paris;VALUE=DATE:20190710
DTEND;TZID=Europe/Paris;VALUE=DATE:20190729
DTSTAMP:20190617T154715Z
URL:https://www.prieure-saint-remy.fr/les-rendez-vous-du-prieure/expositio
 n-loire-faune-et-flore/
SUMMARY:Exposition Loire\, Faune et Flore
DESCRIPTION:Du 10 au 28 juillet venez découvrir la Loire en photo à trave
 rs l'objectif de la photographe Nicole Chardon.\n\n&nbsp\;\n\nVernissage l
 e 11 juillet à 18h30.\n\n&nbsp\;\n\n&nbsp\;\n\n
ATTACH;FMTTYPE=image/jpeg:https://www.prieure-saint-remy.fr/wp-content/upl
 oads/2019/06/affiche-Chardon-e1560784090636.jpg
CATEGORIES:Expositions
END:VEVENT
BEGIN:VTIMEZONE
TZID:Europe/Paris
X-LIC-LOCATION:Europe/Paris
BEGIN:DAYLIGHT
DTSTART:20190331T030000
TZOFFSETFROM:+0100
TZOFFSETTO:+0200
TZNAME:CEST
END:DAYLIGHT
END:VTIMEZONE
END:VCALENDAR