BEGIN:VCALENDAR
VERSION:2.0
PRODID:-//wp-events-plugin.com//7.2.3.1//EN
TZID:Europe/Paris
X-WR-TIMEZONE:Europe/Paris
BEGIN:VEVENT
UID:237@prieure-saint-remy.fr
DTSTART;TZID=Europe/Paris:20230726T200000
DTEND;TZID=Europe/Paris:20230726T200000
DTSTAMP:20230722T100439Z
URL:https://www.prieure-saint-remy.fr/les-rendez-vous-du-prieure/festival-
 des-cordes-de-loire/
SUMMARY:Festival des Cordes de Loire
DESCRIPTION:De jeunes talents venus d’écoles de plusieurs conservatoires
  d’Europe proposent un concert de musique classique avec le dynamisme et
  l’enthousiasme de leur génération.\n\nSous la direction d'Irène Joly
 s\n\nhttps://www.cordesdeloire.com/\n\n\n\n&nbsp\;\n\n&nbsp\;
ATTACH;FMTTYPE=image/jpeg:https://www.prieure-saint-remy.fr/wp-content/upl
 oads/2022/03/cordes-de-loire-scaled.jpg
CATEGORIES:Concerts
END:VEVENT
BEGIN:VTIMEZONE
TZID:Europe/Paris
X-LIC-LOCATION:Europe/Paris
BEGIN:DAYLIGHT
DTSTART:20230326T030000
TZOFFSETFROM:+0100
TZOFFSETTO:+0200
TZNAME:CEST
END:DAYLIGHT
END:VTIMEZONE
END:VCALENDAR