BEGIN:VCALENDAR
VERSION:2.0
PRODID:-//wp-events-plugin.com//7.2.3.1//EN
TZID:Europe/Paris
X-WR-TIMEZONE:Europe/Paris
BEGIN:VEVENT
UID:407@prieure-saint-remy.fr
DTSTART;TZID=Europe/Paris:20260214T203000
DTEND;TZID=Europe/Paris:20260214T220000
DTSTAMP:20260213T164202Z
URL:https://www.prieure-saint-remy.fr/les-rendez-vous-du-prieure/harpe-cel
 tique/
SUMMARY:ANNULÉ | Cécile Branche harpe celtique et chant
DESCRIPTION:CONCERT ANNULÉ : Pour des raisons de santé\, l'artiste n'est 
 pas en mesure d'assurer le concert. Nous vous remercions pour votre compr
 éhension. Un concert féerique de harpe celtique et chant Laissez-vous e
 nvoûter par un voyage musical au cœur des terres celtiques…Dans une at
 mosphère empreinte de magie\, la harpe celtique et la voix s’unissent p
 our vous transporter en Irlande et en Écosse\, à travers des mélodies a
 ncestrales et envoûtantes. Au fil du concert\, airs traditionnels et ball
 ades se mêlent aux compositions enchanteresses de Cécile Branche\, tiss
 ant un univers hors du temps\, où la poésie rencontre la musique.Entre d
 ouceur et mystère\, chaque note résonne comme un écho des légendes d
 ’autrefois\, invitant l’âme à la rêverie et au voyage.Un instant su
 spendu\, où la harpe murmure et la voix enchante…Cécile Branche harpes
 \, chant\n\n[embed]https://www.youtube.com/watch?v=lRFzRgJ9vVw[/embed]\n\n
 \nPour en savoir plus : https://cecilebranche.com/\n\n&nbsp\;
ATTACH;FMTTYPE=image/jpeg:https://www.prieure-saint-remy.fr/wp-content/upl
 oads/2025/12/cecile-harpe-site.jpg
CATEGORIES:Concerts
END:VEVENT
BEGIN:VTIMEZONE
TZID:Europe/Paris
X-LIC-LOCATION:Europe/Paris
BEGIN:STANDARD
DTSTART:20251026T020000
TZOFFSETFROM:+0200
TZOFFSETTO:+0100
TZNAME:CET
END:STANDARD
END:VTIMEZONE
END:VCALENDAR