BEGIN:VCALENDAR
VERSION:2.0
PRODID:-//wp-events-plugin.com//7.2.3.1//EN
TZID:Europe/Paris
X-WR-TIMEZONE:Europe/Paris
BEGIN:VEVENT
UID:2@prieure-saint-remy.fr
DTSTART;TZID=Europe/Paris:20180717T100000
DTEND;TZID=Europe/Paris:20180717T120000
DTSTAMP:20181022T084103Z
URL:https://www.prieure-saint-remy.fr/les-rendez-vous-du-prieure/jeu-de-pi
 ste-sur-les-traces-de-st-remy/
SUMMARY:Jeu de piste : sur les traces de St Rémy
DESCRIPTION:L’association du Prieuré de Saint Rémy la Varenne vous prop
 ose un jeu de piste sur les traces de St Rémy.\nNous vous donnons rendez-
 vous le mardi 17 juillet de 10h à 12h.\n\nTarifs : 5€ adulte / 4€ adh
 érent / 3€ -18 ans / gratuit -5 ans\n\nRéservation au : 02 41 57 32 32
 \n\n
ATTACH;FMTTYPE=image/jpeg:https://www.prieure-saint-remy.fr/wp-content/upl
 oads/2018/07/RDV_17-07.jpg
LOCATION:Prieuré de Saint Rémy la Varenne\, Place Edouard Meslier\, BRISS
 AC LOIRE AUBANCE\, 49250\, France
GEO:47.397715;-0.3158273999999892
X-APPLE-STRUCTURED-LOCATION;VALUE=URI;X-ADDRESS=Place Edouard Meslier\, BRI
 SSAC LOIRE AUBANCE\, 49250\, France;X-APPLE-RADIUS=100;X-TITLE=Prieuré de
  Saint Rémy la Varenne:geo:47.397715,-0.3158273999999892
END:VEVENT
BEGIN:VTIMEZONE
TZID:Europe/Paris
X-LIC-LOCATION:Europe/Paris
BEGIN:DAYLIGHT
DTSTART:20180325T030000
TZOFFSETFROM:+0100
TZOFFSETTO:+0200
TZNAME:CEST
END:DAYLIGHT
END:VTIMEZONE
END:VCALENDAR