BEGIN:VCALENDAR
VERSION:2.0
PRODID:-//wp-events-plugin.com//7.2.3.1//EN
TZID:Europe/Paris
X-WR-TIMEZONE:Europe/Paris
BEGIN:VEVENT
UID:391@prieure-saint-remy.fr
DTSTART;TZID=Europe/Paris:20251207T160000
DTEND;TZID=Europe/Paris:20251207T173000
DTSTAMP:20250604T143957Z
URL:https://www.prieure-saint-remy.fr/les-rendez-vous-du-prieure/la-legend
 re-de-letoile/
SUMMARY:La légende de l'étoile : conte musical
DESCRIPTION:Il était une fois... une petite étoile venant du fond de l'un
 ivers portée par la mer sur une plage.\n\nAprès avoir sauvé un être my
 stérieux enfermé dans une ombre\, elle partira avec un bâton de pluie e
 t un coquillage à la rencontre des enfants des 5 continents pour découvr
 ir leurs chants\, leurs instruments et le lieu secret où les mènent tout
 es ces voix ...\n\n\n\n\n\nGeneviève Barret : voix\, cithare\, guitare\, 
 flûtes\, percussions...\n\nParticipation libre\, prix conseillé : 10€ 
 par famille\n\n\n\n\n\nRéservation au 02.41.57.32.32\, par mail à contac
 t@prieure-saint-remy.fr\n\n\n&nbsp\;
ATTACH;FMTTYPE=image/jpeg:https://www.prieure-saint-remy.fr/wp-content/upl
 oads/2025/05/la-legende-de-letoile-site.jpg
CATEGORIES:Contes / Lectures-spectacles,En famille
END:VEVENT
BEGIN:VTIMEZONE
TZID:Europe/Paris
X-LIC-LOCATION:Europe/Paris
BEGIN:STANDARD
DTSTART:20251026T020000
TZOFFSETFROM:+0200
TZOFFSETTO:+0100
TZNAME:CET
END:STANDARD
END:VTIMEZONE
END:VCALENDAR