BEGIN:VCALENDAR
VERSION:2.0
PRODID:-//wp-events-plugin.com//7.2.3.1//EN
TZID:Europe/Paris
X-WR-TIMEZONE:Europe/Paris
BEGIN:VEVENT
UID:300@prieure-saint-remy.fr
DTSTART;TZID=Europe/Paris:20240114T160000
DTEND;TZID=Europe/Paris:20240114T180000
DTSTAMP:20231221T140023Z
URL:https://www.prieure-saint-remy.fr/les-rendez-vous-du-prieure/le-theatr
 e-du-vieux-drap-jhabite-ici/
SUMMARY:Le théâtre du Vieux Drap: J'habite ici !
DESCRIPTION:Un immeuble\, un quartier\n\nUne ville\, un pays\n\nLe monde\, 
 le monde\,\n\nComme vous\, j'habite ici !\n\nTouché par la beauté des un
 s\n\nOu par la cruauté des autres\n\nParfois guidé par l'utopie\n\nEt pu
 is la vie qui continue\n\nComme vous\, j'habite ici !\n\n&nbsp\;\n\nD'apr
 ès la pièce de Jean-Michel Ribes\n\nMise en scène de Philippe Piau.\n\n
 Réservation indispensable au 06.36.94.19.60 ou par mail à vieuxdrap@oran
 ge.fr\n\n\n\n&nbsp\;
ATTACH;FMTTYPE=image/jpeg:https://www.prieure-saint-remy.fr/wp-content/upl
 oads/2023/12/Affiche-21.11.2023.png
CATEGORIES:Théâtre
END:VEVENT
BEGIN:VTIMEZONE
TZID:Europe/Paris
X-LIC-LOCATION:Europe/Paris
BEGIN:STANDARD
DTSTART:20231029T020000
TZOFFSETFROM:+0200
TZOFFSETTO:+0100
TZNAME:CET
END:STANDARD
END:VTIMEZONE
END:VCALENDAR