BEGIN:VCALENDAR
VERSION:2.0
PRODID:-//wp-events-plugin.com//7.2.3.1//EN
TZID:Europe/Paris
X-WR-TIMEZONE:Europe/Paris
BEGIN:VEVENT
UID:108@prieure-saint-remy.fr
DTSTART;TZID=Europe/Paris:20210117T170000
DTEND;TZID=Europe/Paris:20210117T170000
DTSTAMP:20210106T090847Z
URL:https://www.prieure-saint-remy.fr/les-rendez-vous-du-prieure/les-ardoi
 sieres-2/
SUMMARY:Les Ardoisières : annulé
DESCRIPTION:Évocation musicale et poétique du monde des ardoisiers en Anj
 ou. Cette composition collective égrène compositions contemporaines\, ch
 ants militants\, complaintes évoquant grèves et tragédies\, chants de f
 endeurs\, travail des femmes\, rouliers\, mineurs...\n\nDécouvrez le spec
 tacle Les Ardoisières.\n\n\n\n&nbsp\;\n\n&nbsp\;\n\n&nbsp\;\n\n&nbsp\;\n\
 n&nbsp\;\n\n&nbsp\;\n\n&nbsp\;\n\n&nbsp\;\n\n&nbsp\;\n\n&nbsp\;\n\n&nbsp\;
 \n\n\n\n&nbsp\;\n\n&nbsp\;\n\nPort du masque obligatoire à partir de 11 a
 ns.
ATTACH;FMTTYPE=image/jpeg:https://www.prieure-saint-remy.fr/wp-content/upl
 oads/2020/01/musiques_ardoisiere21.jpeg
CATEGORIES:Spectacles (concerts, théâtres, contes)
END:VEVENT
BEGIN:VTIMEZONE
TZID:Europe/Paris
X-LIC-LOCATION:Europe/Paris
BEGIN:STANDARD
DTSTART:20201025T020000
TZOFFSETFROM:+0200
TZOFFSETTO:+0100
TZNAME:CET
END:STANDARD
END:VTIMEZONE
END:VCALENDAR