BEGIN:VCALENDAR
VERSION:2.0
PRODID:-//wp-events-plugin.com//7.2.3.1//EN
TZID:Europe/Paris
X-WR-TIMEZONE:Europe/Paris
BEGIN:VEVENT
UID:292@prieure-saint-remy.fr
DTSTART;TZID=Europe/Paris:20230916T100000
DTEND;TZID=Europe/Paris:20230917T180000
DTSTAMP:20230722T082724Z
URL:https://www.prieure-saint-remy.fr/les-rendez-vous-du-prieure/les-journ
 ees-europeennes-du-patrimoine-8/
SUMMARY:Les Journées Européennes du Patrimoine
DESCRIPTION:Le Prieuré vous accueille pour la 40 ème édition des Journé
 es Européennes du Patrimoine.\nTout le week-end de 10h à 18h :\n\n\n 	Vi
 site libre avec fiches explicatives (livrets de visite disponibles en angl
 ais).\n 	« Trésor Dérobé » Découvrez qui est le voleur du trésor
  du Prieuré.\nVisite enquête avec tablette numérique (tablettes en nomb
 re limité / Durée environ 1h15).\n 	Les deux jours à 11h et 15h: visite
  guidée (durée 45 mn)\n 	Les deux jours à 16h30 : visite atypique et fa
 miliale (durée 45 mn-1h)\n\n
ATTACH;FMTTYPE=image/jpeg:https://www.prieure-saint-remy.fr/wp-content/upl
 oads/2020/01/DSC_0307.jpeg
CATEGORIES:Journées du patrimoine
END:VEVENT
BEGIN:VTIMEZONE
TZID:Europe/Paris
X-LIC-LOCATION:Europe/Paris
BEGIN:DAYLIGHT
DTSTART:20230326T030000
TZOFFSETFROM:+0100
TZOFFSETTO:+0200
TZNAME:CEST
END:DAYLIGHT
END:VTIMEZONE
END:VCALENDAR