BEGIN:VCALENDAR
VERSION:2.0
PRODID:-//wp-events-plugin.com//7.2.3.1//EN
TZID:Europe/Paris
X-WR-TIMEZONE:Europe/Paris
BEGIN:VEVENT
UID:436@prieure-saint-remy.fr
DTSTART;TZID=Europe/Paris:20260807T160000
DTEND;TZID=Europe/Paris:20260807T230000
DTSTAMP:20260420T145616Z
URL:https://www.prieure-saint-remy.fr/les-rendez-vous-du-prieure/marche-no
 cturne-de-producteurs-et-bal-folk-2/
SUMMARY:Marché nocturne de producteurs et bal folk
DESCRIPTION:Le Prieuré s’habille aux couleurs de l’été !\n\nDe nombr
 eux artisans et producteurs locaux vous accueillent dans le parc du domain
 e. En plus de leur savoir-faire\, vous pourrez profiter d'une soirée fest
 ive autour d'un bal folk\, d'une buvette et de fouées cuites directement 
 dans le four à pain du monument !\n\nPour exposer lors de cette soirée\,
  n’hésiter pas à nous retourner le Formulaire inscription 2026 complé
 té.\n\nEntrée gratuite à partir de 16 h\n\nCette année le bal folk ser
 a animé par "CLAM" et "DAM'DAN"\nCLAM n'a rien à voir\, malgré son nom\
 , avec un mollusque bivalve bien connu sur les côtes françaises \; les a
 mateurs de musique « CLAM » apprécieront au contraire d’avoir des ja
 mbes (et pas lourdes de préférence).Mazurkas\, bourrées\, maraîchines\
 , cercles circassiens\, et autres valses à sortir par n’importe quel te
 mps\,… il y en a pour tous les goûts et toutes les couleurs !« CLAM 
 »\, c’est EriC Plessis (guitare)\, MicheL Paquier (accordéon diatoniqu
 e)\, MariettA Chiron (flûtes à bec) et MyriaM Guillet (violon).DAM'DAN :
  un saxophone aux mélodies riches en harmonies scandées par une guitare 
 rythmique aux accents de swing\, le tout mis au service d'airs à danser\,
  voilà DAM'DAN ! (Damien Guihard\, saxophones\, chant\, Daniel Rebière\,
  guitare\, chant).\n\n\nBal folk à partir de 20h\, participation libre\n\
 n&nbsp\;
ATTACH;FMTTYPE=image/jpeg:https://www.prieure-saint-remy.fr/wp-content/upl
 oads/2025/04/IMG_20190802_220042-scaled.jpg
CATEGORIES:Bal folk,En famille,Marché nocturne
END:VEVENT
BEGIN:VTIMEZONE
TZID:Europe/Paris
X-LIC-LOCATION:Europe/Paris
BEGIN:DAYLIGHT
DTSTART:20260329T030000
TZOFFSETFROM:+0100
TZOFFSETTO:+0200
TZNAME:CEST
END:DAYLIGHT
END:VTIMEZONE
END:VCALENDAR