BEGIN:VCALENDAR
VERSION:2.0
PRODID:-//wp-events-plugin.com//7.2.3.1//EN
TZID:Europe/Paris
X-WR-TIMEZONE:Europe/Paris
BEGIN:VEVENT
UID:366@prieure-saint-remy.fr
DTSTART;TZID=Europe/Paris:20250323T140000
DTEND;TZID=Europe/Paris:20250323T193000
DTSTAMP:20250212T143039Z
URL:https://www.prieure-saint-remy.fr/les-rendez-vous-du-prieure/murder-pa
 rty-au-prieure-11/
SUMMARY:Murder Party au Prieuré
DESCRIPTION:Pedro est mort !\n\nLe perroquet emblématique de Mathurin Lega
 y\, seigneur prieur à St Rémy la Varenne durant la Renaissance\, a dispa
 ru.\n\nMeurtre ? Accident ? Suicide ? Ou bien pourquoi pas fugue ou enlèv
 ement ? A vous de trouver ce qui est arrivé à Pedro !\n\nDurée environ 
 1h15\, à partir de 8 ans\n\n3 séances : 14\, 16 et 18h\n\nRéservations 
 : 02 41 57 32 32\, à contact@prieure-saint-remy.fr ou directement en lign
 e.\n\n\n\n\n\n\n\n\n&nbsp\;\n\n&nbsp\;\n\n&nbsp\;\n\n&nbsp\;\n\n&nbsp\;\n\
 n&nbsp\;\n\n&nbsp\;
ATTACH;FMTTYPE=image/jpeg:https://www.prieure-saint-remy.fr/wp-content/upl
 oads/2024/12/Pedro-zoom.png
CATEGORIES:En famille,Théâtre,Visite insolite
END:VEVENT
BEGIN:VTIMEZONE
TZID:Europe/Paris
X-LIC-LOCATION:Europe/Paris
BEGIN:STANDARD
DTSTART:20241027T020000
TZOFFSETFROM:+0200
TZOFFSETTO:+0100
TZNAME:CET
END:STANDARD
END:VTIMEZONE
END:VCALENDAR