BEGIN:VCALENDAR
VERSION:2.0
PRODID:-//wp-events-plugin.com//7.2.3.1//EN
TZID:Europe/Paris
X-WR-TIMEZONE:Europe/Paris
BEGIN:VEVENT
UID:413@prieure-saint-remy.fr
DTSTART;TZID=Europe/Paris:20260509T203000
DTEND;TZID=Europe/Paris:20260509T220000
DTSTAMP:20251203T084504Z
URL:https://www.prieure-saint-remy.fr/les-rendez-vous-du-prieure/musiques-
 anciennes/
SUMMARY:Musiques anciennes : ensemble J B Loeillet
DESCRIPTION:Depuis sa création en 1963\, l'ensemble Jean-Baptiste Lœillet
  explore le répertoire des musiques anciennes\, du Moyen-Âge au XVIIIe s
 iècle.\n\nNotre ensemble instrumental et vocal est composé d'une quinzai
 ne de musiciens et musiciennes\, amateurs et amis\, heureux à l'idée de 
 jouer ensemble et pour vous dans ce lieu qui a traversé l'histoire.\n\nNo
 us vous proposons un programme varié de musiques et de chants anglais et 
 italiens de la période XIème-XVIIIème avec quelques incursions dans de 
 plus lointaines contrées !\n\nFlûtes\, violes\, guitares\, violon et cla
 vecin accompagnés parfois de percussions et cromornes joueront\, seuls o
 u avec le chœur\, tour à tour des pièces et danses sacrées et profanes
 .\n\nPour en savoir plus : https://ensemble-jb-loeillet.over-blog.com/\n\
 nRéservation au 02.41.57.32.32. ou par mail à contact@prieure-saint-remy
 .fr\n\n&nbsp\;\n\n&nbsp\;
ATTACH;FMTTYPE=image/jpeg:https://www.prieure-saint-remy.fr/wp-content/upl
 oads/2025/12/JB-Loeillet-site.png
CATEGORIES:Concerts,En famille
END:VEVENT
BEGIN:VTIMEZONE
TZID:Europe/Paris
X-LIC-LOCATION:Europe/Paris
BEGIN:DAYLIGHT
DTSTART:20260329T030000
TZOFFSETFROM:+0100
TZOFFSETTO:+0200
TZNAME:CEST
END:DAYLIGHT
END:VTIMEZONE
END:VCALENDAR