BEGIN:VCALENDAR
VERSION:2.0
PRODID:-//wp-events-plugin.com//7.2.3.1//EN
TZID:Europe/Paris
X-WR-TIMEZONE:Europe/Paris
BEGIN:VEVENT
UID:191@prieure-saint-remy.fr
DTSTART;TZID=Europe/Paris:20220713T100000
DTEND;TZID=Europe/Paris:20220713T160000
DTSTAMP:20220712T133244Z
URL:https://www.prieure-saint-remy.fr/les-rendez-vous-du-prieure/rando-rou
 lotte-6/
SUMMARY:Rando-roulotte
DESCRIPTION:ANNULÉE POUR CAUSE DE CANICULE. Merci de votre compréhension.
 \n\nLe temps d'une journée\, la Bulle Ambu'lente et l'Association du Prie
 uré vous invitent à ralentir : marcher au rythme du cheval\, prendre le 
 temps d'observer\, de découvrir\, d'échanger. Cette randonnée vous mèn
 era au site exceptionnel de la Bajoulière\, où animations et surprises v
 ous attendent.\n\nCette randonnée vous permet de découvrir :\n\n 	une mo
 bilité douce et proche de la nature : la traction hippomobile\,\n 	un cir
 cuit de randonnée au cœur d'un Espace Naturel Sensible angevin : les cot
 eaux du Thoureil\n 	les richesses de ces ENS par le biais d'observations\,
  d'ateliers de découverte et de dégustations insolites lors de la pause 
 déjeuner et de la pause goûter\,\n 	les paysages et les productions agri
 coles locales.\n\nAlternance de marche et de transport en roulotte. Pique-
 nique à prévoir.\n\n \n\nSortie proposée dans le cadre des Rendez-vous
  Nature en Anjou du Conseil Départemental de Maine-et-Loire.\n\nSortie ma
 rquée Valeurs du Parc Naturel Régional Loire Anjou Touraine\n\n  
ATTACH;FMTTYPE=image/jpeg:https://www.prieure-saint-remy.fr/wp-content/upl
 oads/2022/03/rando-roulotte-scaled.jpg
CATEGORIES:En famille,Sorties découvertes
END:VEVENT
BEGIN:VTIMEZONE
TZID:Europe/Paris
X-LIC-LOCATION:Europe/Paris
BEGIN:DAYLIGHT
DTSTART:20220327T030000
TZOFFSETFROM:+0100
TZOFFSETTO:+0200
TZNAME:CEST
END:DAYLIGHT
END:VTIMEZONE
END:VCALENDAR