BEGIN:VCALENDAR
VERSION:2.0
PRODID:-//wp-events-plugin.com//7.2.3.1//EN
TZID:Europe/Paris
X-WR-TIMEZONE:Europe/Paris
BEGIN:VEVENT
UID:126@prieure-saint-remy.fr
DTSTART;TZID=Europe/Paris:20210726T100000
DTEND;TZID=Europe/Paris:20210726T120000
DTSTAMP:20201218T154526Z
URL:https://www.prieure-saint-remy.fr/les-rendez-vous-du-prieure/semaine-o
 dyssee-espace-naturel-sensible-3/
SUMMARY:La semaine de l'Odyssée de l'Espace Naturel Sensible
DESCRIPTION:Sortie "Pistez le paysage"\n\n&nbsp\;\n\nEn équipe et à l'aid
 e d'un plan\, décelez les mystères des quatre milieux naturels qui compo
 sent le paysage de ce site remarquable.\n\nDes sacs à malice remplis d'ac
 tivités ponctueront votre balade.\n\n&nbsp\;\n\n&nbsp\;\n\n&nbsp\;\n\n&nb
 sp\;\n\n&nbsp\;\n\n&nbsp\;\nLa suite du programme de la semaine\n\n\nSorti
 e "Une balade pleine de sens" mardi 27 juillet de 10h à 12h : La nature n
 ous offre des temps de promenade et de découverte\, mais elle nous apport
 e tellement plus… Utilisons nos sens et baladons-nous différemment pour
  ressentir tout notre environnement.\n\n&nbsp\;\n\n&nbsp\;\n\n&nbsp\;\n\n&
 nbsp\;\n\n\n\nSortie "Indices en vue" jeudi 29 juillet de 10h à 12h : Une
  empreinte dans le sol\, une plume\, une coulée...tous ces indices nous i
 nforment sur la présence des animaux\, même s'ils se font discrets lors 
 de nos balades. Ouvrons l’œil\, sortons les loupes et enquêtons !\n\n&
 nbsp\;\n\n&nbsp\;\n\n&nbsp\;\n\n&nbsp\;\n\n\n\nSortie "Apprentis herborist
 es" vendredi 30 juillet de 10h à 12h : Les herboristes connaissent de nom
 breux secrets sur les plantes. Soignent-elles\, se mangent-elles\, sont-el
 les toxiques ? Venez admirer les plantes de nos haies et chemins et devene
 z guérisseur en herbe pour soigner un malade imaginaire.\n\n&nbsp\;\n\n&n
 bsp\;\n\n&nbsp\;\n\n&nbsp\;\n\n&nbsp\;\nLe spectacle du dimanche 25 juille
 t à 16h\n\nCes sorties font suite au spectacle "l'Odyssée de l'Espace Na
 turel" proposé par la Compagnie Spectabilis.\n\nOmer\, youtubeur de la de
 rnière heure\, nous embarque dans une drôle d'Odyssée à la recherche d
 'une espèce extraordinaire en voie...d'apparition! Un spectacle en déamb
 ulation\, humoristique et musical en plongée dans les mystères de la bio
 diversité. (spectacle conseillé à partir de 8 ans)\n\n\n\n&nbsp\;\n\n&n
 bsp\;\n\n&nbsp\;\n\n&nbsp\;\n\n&nbsp\;\n\n&nbsp\;\n\nAnimation proposée d
 ans le cadre des Rendez-vous Nature en Anjou du Conseil Départemental de 
 Maine-et-Loire\; marquée Valeurs du Parc Naturel Régional Loire Anjou To
 uraine.\n\n\n                
ATTACH;FMTTYPE=image/jpeg:https://www.prieure-saint-remy.fr/wp-content/upl
 oads/2020/12/ENS-2019-12-scaled.jpg
CATEGORIES:Sorties découvertes
END:VEVENT
BEGIN:VTIMEZONE
TZID:Europe/Paris
X-LIC-LOCATION:Europe/Paris
BEGIN:DAYLIGHT
DTSTART:20210328T030000
TZOFFSETFROM:+0100
TZOFFSETTO:+0200
TZNAME:CEST
END:DAYLIGHT
END:VTIMEZONE
END:VCALENDAR