BEGIN:VCALENDAR
VERSION:2.0
PRODID:-//wp-events-plugin.com//7.2.3.1//EN
TZID:Europe/Paris
X-WR-TIMEZONE:Europe/Paris
BEGIN:VEVENT
UID:127@prieure-saint-remy.fr
DTSTART;TZID=Europe/Paris:20210727T100000
DTEND;TZID=Europe/Paris:20210727T120000
DTSTAMP:20201218T154602Z
URL:https://www.prieure-saint-remy.fr/les-rendez-vous-du-prieure/semaine-o
 dyssee-espace-naturel-sensible/
SUMMARY:La semaine de l'Odyssée de l'Espace Naturel Sensible
DESCRIPTION:Sortie "Une balade pleine de sens"\n\n&nbsp\;\n\nLa nature nous
  offre des temps de promenade et de découverte\, mais elle nous apporte t
 ellement plus… Utilisons nos sens et baladons-nous différemment pour re
 ssentir tout notre environnement.\n\n&nbsp\;\n\n&nbsp\;\n\n&nbsp\;\n\n&nbs
 p\;\n\n&nbsp\;\nLa suite du programme de la semaine\n&nbsp\;\n\n\n\nSortie
  "Indices en vue" jeudi 29 juillet de 10h à 12h : Une empreinte dans le s
 ol\, une plume\, une coulée...tous ces indices nous informent sur la pré
 sence des animaux\, même s'ils se font discrets lors de nos balades. Ouvr
 ons l’œil\, sortons les loupes et enquêtons !\n\n&nbsp\;\n\n&nbsp\;\n\
 n&nbsp\;\n\n&nbsp\;\n\n\n\nSortie "Apprentis herboristes" vendredi 30 juil
 let de 10h à 12h : Les herboristes connaissent de nombreux secrets sur le
 s plantes. Soignent-elles\, se mangent-elles\, sont-elles toxiques ? Venez
  admirer les plantes de nos haies et chemins et devenez guérisseur en her
 be pour soigner un malade imaginaire.\n\n&nbsp\;\n\n&nbsp\;\n\n&nbsp\;\nLe
  spectacle du dimanche 25 juillet à 16h\n\nCes sorties font suite au spec
 tacle "l'Odyssée de l'Espace Naturel" proposé par la Compagnie Spectabil
 is.\n\nOmer\, youtubeur de la dernière heure\, nous embarque dans une dr
 ôle d'Odyssée à la recherche d'une espèce extraordinaire en voie...d'a
 pparition! Un spectacle en déambulation\, humoristique et musical en plon
 gée dans les mystères de la biodiversité. (spectacle conseillé à part
 ir de 8 ans)\n\n\n\n&nbsp\;\n\n&nbsp\;\n\n&nbsp\;\n\n&nbsp\;\n\n&nbsp\;\n\
 n&nbsp\;\n\nAnimation proposée dans le cadre des Rendez-vous Nature en An
 jou du Conseil Départemental de Maine-et-Loire\; marquée Valeurs du Parc
  Naturel Régional Loire Anjou Touraine.\n\n\n                
ATTACH;FMTTYPE=image/jpeg:https://www.prieure-saint-remy.fr/wp-content/upl
 oads/2020/01/ENS_27-07.jpg
CATEGORIES:Sorties découvertes
END:VEVENT
BEGIN:VTIMEZONE
TZID:Europe/Paris
X-LIC-LOCATION:Europe/Paris
BEGIN:DAYLIGHT
DTSTART:20210328T030000
TZOFFSETFROM:+0100
TZOFFSETTO:+0200
TZNAME:CEST
END:DAYLIGHT
END:VTIMEZONE
END:VCALENDAR