BEGIN:VCALENDAR
VERSION:2.0
PRODID:-//wp-events-plugin.com//7.2.3.1//EN
TZID:Europe/Paris
X-WR-TIMEZONE:Europe/Paris
BEGIN:VEVENT
UID:358@prieure-saint-remy.fr
DTSTART;TZID=Europe/Paris:20250126T160000
DTEND;TZID=Europe/Paris:20250126T173000
DTSTAMP:20241217T092531Z
URL:https://www.prieure-saint-remy.fr/les-rendez-vous-du-prieure/sens-dess
 us-dessous-compagnie-du-vieux-drap-6/
SUMMARY:Sens Dessus Dessous | Compagnie du Vieux Drap
DESCRIPTION:La compagnie du Vieux Drap pose une nouvelle fois ses valises a
 u Prieuré !\n\nPour cette année 2025\, 10 représentations de la pièce 
 "Sens dessus dessous" sont prévues.\n\nQu’on soit banquière ou bien va
 cancière\,\nChien-chien à sa mémère ou bien commissaire\,\nUn bon bol 
 d’air offert par l’hôtelière\,\nC’est mieux qu’un trou d’air\,
 \nça change l’atmosphère !\nC’est fait pour nous plaire ça nous cha
 nge l’air !\nAllez\, un bon bol d’air pour tout le monde !\n\nTextes o
 riginaux : Raymond DEVOS\n\nMise en scène et adaptation : Philippe PIAU\n
 \nAvec : Nelly BELLEMERE - Stéphanie BERNIER - Robert BOUCHEREAU - Philip
 pe DROUZY - Jean-François LEVEQUE - Claude MALTIS - Olivier MAMET - Céci
 le SAULEAU\n\nArrangements musicaux : Pascal MARCAULT - Régie : Christoph
 e BERTRAND - Affiche : Anne GUILLOT\n\n- Samedi 11 janvier à 18h30\n\n- D
 imanche 12 janvier à 16h\n\n- Vendredi 17 janvier à 20h30\n\n- Dimanche 
 19 janvier à 16h\n\n- Samedi 25 janvier à 18h30\n\n- Dimanche 26 janvier
  à 16h\n\n- Vendredi 31 janvier à 20h30\n\n- Samedi 1er février à 18h3
 0\n\n- Samedi 8 février à 18h30\n\n- Dimanche 9 février à 16h\n\nRése
 rvation indispensable au 06 36 94 19 60 ou vieuxdrap@orange.fr
ATTACH;FMTTYPE=image/jpeg:https://www.prieure-saint-remy.fr/wp-content/upl
 oads/2024/12/Vieux-draps-scaled.png
CATEGORIES:Théâtre
END:VEVENT
BEGIN:VTIMEZONE
TZID:Europe/Paris
X-LIC-LOCATION:Europe/Paris
BEGIN:STANDARD
DTSTART:20241027T020000
TZOFFSETFROM:+0200
TZOFFSETTO:+0100
TZNAME:CET
END:STANDARD
END:VTIMEZONE
END:VCALENDAR