BEGIN:VCALENDAR
VERSION:2.0
PRODID:-//wp-events-plugin.com//7.2.3.1//EN
TZID:Europe/Paris
X-WR-TIMEZONE:Europe/Paris
BEGIN:VEVENT
UID:415@prieure-saint-remy.fr
DTSTART;TZID=Europe/Paris:20260626T190000
DTEND;TZID=Europe/Paris:20260626T204500
DTSTAMP:20260105T090315Z
URL:https://www.prieure-saint-remy.fr/les-rendez-vous-du-prieure/theatre-e
 t-ils-vecurent-heureux-2/
SUMMARY:Théâtre : et ils vécurent heureux
DESCRIPTION:\nSi on sait comment Harry a rencontré Sally\, pourquoi Rosali
 e a aimé César et comment s'est terminée l'histoire de Roméo et Juliet
 te\, il nous reste encore beaucoup d'histoires d'amour à raconter et de m
 anières de s'aimer à inventer.\nEt ils vécurent heureux retrace la ren
 contre\, le quotidien et l'avenir de six couples\, en puisant dans les ré
 férences cinématographiques ou romanesques qui nous ont offert nos premi
 ères visions de l'amour\, dans nos propres héritages familiaux ou nos v
 écus personnels et dans lesquels le public pourra forcément se retrouver
 .\nUn spectacle vivifiant\, fantaisiste et émouvant\, un véritable hymne
  à l'amour\, interprété par l'équipe du Festival du Paon.\n Le Festiva
 l du Paon est un événement de création théâtrale in situ prenant pla
 ce l'été autour de la commune de Banon\, dans les Alpes-de-Haute-Provenc
 e. Il réunit un groupe de jeunes créateur.rices venant du théâtre\, de
  la musique et du cinéma qui se retrouvent chaque année pendant un mois 
 pour constituer un festival de créations originales\, inédites et partic
 ulières\, en lien avec des lieux non dédiés au spectacle vivant. Et ils
  vécurent heureux a été imaginé dans ce cadre par Margaux Grilleau pou
 r les 12 comédien.nes de la 8ème édition du festival en 2023\, qui se s
 ont ensuite emparé.es collectivement de l'écriture.\nPar le festival du
  Paon\nImaginé et mis en scène par Margaux Grilleau\nAssisté d'Hector M
 anuel\n\nÉcrit et interprété par Margot Alexandre\, Xavier Bazoge\, Pie
 rre Cohen\, Isabelle Ernoult\, Mathias Labelle\, Hector Manuel\, Lorène M
 enguelti\, Valentin Rolland\, Sylvère Santin\, Alice Sarfati\, Vincent St
 einebach et Alexandre Virapin\n\n\nRéservation au 02.41.57.32.32\, par ma
 il à contact@prieure-saint-remy.fr ou directement en ligne.\n\n\n&nbsp\;
ATTACH;FMTTYPE=image/jpeg:https://www.prieure-saint-remy.fr/wp-content/upl
 oads/2025/12/Et-ils-vecurent-heureux-site.jpg
CATEGORIES:Théâtre
END:VEVENT
BEGIN:VTIMEZONE
TZID:Europe/Paris
X-LIC-LOCATION:Europe/Paris
BEGIN:DAYLIGHT
DTSTART:20260329T030000
TZOFFSETFROM:+0100
TZOFFSETTO:+0200
TZNAME:CEST
END:DAYLIGHT
END:VTIMEZONE
END:VCALENDAR