BEGIN:VCALENDAR
VERSION:2.0
PRODID:-//wp-events-plugin.com//7.2.3.1//EN
TZID:Europe/Paris
X-WR-TIMEZONE:Europe/Paris
BEGIN:VEVENT
UID:144@prieure-saint-remy.fr
DTSTART;TZID=Europe/Paris:20210625T203000
DTEND;TZID=Europe/Paris:20210625T203000
DTSTAMP:20210407T143645Z
URL:https://www.prieure-saint-remy.fr/les-rendez-vous-du-prieure/titi-robi
 n-et-le-trio-du-bled/
SUMMARY:Titi ROBIN et le Trio du Bled
DESCRIPTION:TITI ROBIN (bouzouq\, guitare)\nTOBIE KOPPE (bongos\, cajon)\nV
 INCENT COUPRIE (cajon\, darbouka\, daf\, dayré\, santur)\n\nTiti Robin es
 t un musicien compositeur\, improvisateur et poète français qui a dével
 oppé un univers esthétique original se rattachant au monde méditerrané
 en\, aux confluences des cultures gitanes\, orientales et européennes. Il
  joue la guitare\, le bouzouq et le ‘oud et est l’auteur exclusif de s
 es nombreux projets. Il a enregistré son répertoire en Europe mais égal
 ement en Inde\, en Turquie\, au Maroc\, et a tourné dans le monde entier.
 \n\nIl se produit ici au sein d’un trio original et inédit\, entouré d
 es deux excellents percussionnistes angevins Tobie Koppe\, spécialiste de
 s rythmes latins et Vincent Couprie\, imprégné des styles orientaux. Ce 
 trio s’est formé en 2020\, suite au premier confinement\, afin de propo
 ser une formation accessible (les trois compères vivent dans le même vil
 lage des Coteaux du Layon) à un public local\, en cette période de restr
 iction artistique. Il règne sur scène une chaleureuse ambiance de compli
 cité et d’échanges improvisés\, à partir du répertoire original de 
 Titi Robin.\n\n\n\n\n\n\n\n\n\n\nPort du masque obligatoire à partir de 1
 1 ans. Respectons les gestes barrières.\nConcert organisé suivant les di
 rectives liées à la pandémie.
ATTACH;FMTTYPE=image/jpeg:https://www.prieure-saint-remy.fr/wp-content/upl
 oads/2021/02/Trio-du-Bled.jpg
CATEGORIES:Spectacles (concerts, théâtres, contes)
END:VEVENT
BEGIN:VTIMEZONE
TZID:Europe/Paris
X-LIC-LOCATION:Europe/Paris
BEGIN:DAYLIGHT
DTSTART:20210328T030000
TZOFFSETFROM:+0100
TZOFFSETTO:+0200
TZNAME:CEST
END:DAYLIGHT
END:VTIMEZONE
END:VCALENDAR