BEGIN:VCALENDAR
VERSION:2.0
PRODID:-//wp-events-plugin.com//7.2.3.1//EN
TZID:Europe/Paris
X-WR-TIMEZONE:Europe/Paris
BEGIN:VEVENT
UID:21@prieure-saint-remy.fr
DTSTART;TZID=Europe/Paris:20190316T180000
DTEND;TZID=Europe/Paris:20190316T180000
DTSTAMP:20190110T130918Z
URL:https://www.prieure-saint-remy.fr/les-rendez-vous-du-prieure/tresor-de
 robe-au-prieure-le-mois-du-polar/
SUMMARY:Trésor dérobé au Prieuré\, le Mois du Polar
DESCRIPTION:La légende dit qu’un trésor fut caché au Prieuré\, celui 
 de Frère Pierre\, un moine peu scrupuleux. Durant les mille ans d’histo
 ire de ce monument\, ce trésor a été retrouvé et dérobé\, mais qui e
 st le responsable?\n\nVenez résoudre ce mystère de la cave au grenier\, 
 en rencontrant tous les coupables potentiels.\n\nAnimation familiale propo
 sée dans le cadre du programme POLARisez-vous : Le Mois du Polar de Briss
 ac Loire Aubance.\n\nPrévoir des vêtements chauds. \n\n         
   \n\n&nbsp\;\n\n&nbsp\;
ATTACH;FMTTYPE=image/jpeg:https://www.prieure-saint-remy.fr/wp-content/upl
 oads/2019/01/Affiche-polarisezvous-version-logo-Blanc-scaled.jpg
CATEGORIES:Autres activités
END:VEVENT
BEGIN:VTIMEZONE
TZID:Europe/Paris
X-LIC-LOCATION:Europe/Paris
BEGIN:STANDARD
DTSTART:20181028T020000
TZOFFSETFROM:+0200
TZOFFSETTO:+0100
TZNAME:CET
END:STANDARD
END:VTIMEZONE
END:VCALENDAR