BEGIN:VCALENDAR
VERSION:2.0
PRODID:-//wp-events-plugin.com//7.2.3.1//EN
TZID:Europe/Paris
X-WR-TIMEZONE:Europe/Paris
BEGIN:VEVENT
UID:111@prieure-saint-remy.fr
DTSTART;TZID=Europe/Paris:20210427T153000
DTEND;TZID=Europe/Paris:20210427T153000
DTSTAMP:20210422T145047Z
URL:https://www.prieure-saint-remy.fr/les-rendez-vous-du-prieure/tresor-de
 robe-au-prieure/
SUMMARY:Trésor dérobé au Prieuré : reporté
DESCRIPTION:« Dans une époque lointaine\, un moine cacha un trésor au P
 rieuré mais ne pu jamais revenir le chercher. Un usager du Prieuré le tr
 ouva et s’en empara… Trouverez-vous le coupable ?  »\n\nUne enquête
  à résoudre en famille\, à la découverte de l’histoire du Prieuré e
 t de ce mystère. Une tablette numérique et un carnet de route sous le br
 as \, vous visiterez le Prieuré de la cave au grenier et découvrirez des
  personnages tous autant coupables les uns que les autres. Ils vous racont
 eront leur histoire\, peut-être liée au trésor…\n\nDes indices caché
 s dans les recoins du monument vous donneront la clé du mystère !\n\nAni
 mation proposée dans le cadre de POLARisez-vous sur Brissac Loire Aubance
 .\n\nNombre de places limité.\n\n&nbsp\;\n\n
ATTACH;FMTTYPE=image/jpeg:https://www.prieure-saint-remy.fr/wp-content/upl
 oads/2020/12/IMG_0307-scaled.jpg
CATEGORIES:Visite insolite
END:VEVENT
BEGIN:VTIMEZONE
TZID:Europe/Paris
X-LIC-LOCATION:Europe/Paris
BEGIN:DAYLIGHT
DTSTART:20210328T030000
TZOFFSETFROM:+0100
TZOFFSETTO:+0200
TZNAME:CEST
END:DAYLIGHT
END:VTIMEZONE
END:VCALENDAR