BEGIN:VCALENDAR
VERSION:2.0
PRODID:-//wp-events-plugin.com//7.2.3.1//EN
TZID:Europe/Paris
X-WR-TIMEZONE:Europe/Paris
BEGIN:VEVENT
UID:1@prieure-saint-remy.fr
DTSTART;TZID=Europe/Paris:20180724T100000
DTEND;TZID=Europe/Paris:20180724T120000
DTSTAMP:20181022T084239Z
URL:https://www.prieure-saint-remy.fr/les-rendez-vous-du-prieure/vertueuse
 s-plantes-de-nos-contrees/
SUMMARY:Vertueuses plantes de nos contrées
DESCRIPTION:L’association du Prieuré de Saint Rémy la Varenne vous prop
 ose une sortie nature sur le thème des vertueuses plantes de nos contrée
 s.\nNous vous donnons rendez-vous le mardi 24 juillet de 10h à 12h.\n\nR
 éservation au 02 41 57 32 32.\n\nTarifs : 5€ Adulte / 4€ Adhérent / 
 3€ -18 ans / gratuit -5 ans\n\n
ATTACH;FMTTYPE=image/jpeg:https://www.prieure-saint-remy.fr/wp-content/upl
 oads/2018/07/RDV_24-07.jpg
END:VEVENT
BEGIN:VTIMEZONE
TZID:Europe/Paris
X-LIC-LOCATION:Europe/Paris
BEGIN:DAYLIGHT
DTSTART:20180325T030000
TZOFFSETFROM:+0100
TZOFFSETTO:+0200
TZNAME:CEST
END:DAYLIGHT
END:VTIMEZONE
END:VCALENDAR