BEGIN:VCALENDAR
VERSION:2.0
PRODID:-//wp-events-plugin.com//7.2.3.1//EN
TZID:Europe/Paris
X-WR-TIMEZONE:Europe/Paris
BEGIN:VEVENT
UID:409@prieure-saint-remy.fr
DTSTART;TZID=Europe/Paris:20260322T160000
DTEND;TZID=Europe/Paris:20260322T173000
DTSTAMP:20260317T104006Z
URL:https://www.prieure-saint-remy.fr/les-rendez-vous-du-prieure/vivant/
SUMMARY:Vivant\, au pied des arbres
DESCRIPTION:Bercés par la quiétude des maîtres du temps\, les spectateur
 s sont invités à suivre une pensée vivifiante qui se balade entre la pa
 role et le chant.D’une boule de glaise émerge un arbre éphémère. La 
 vie s’affirme\, incroyablement active au cœur de toute chose dans ce to
 ur de chant singulier.\nMaintenant\, mains tenant la terre qui guérit\, l
 e spectacle peut commencer.Les mots et la voix d'Annick Cesbron\, la musiq
 ue et les notes d'Etienne Boisdron font vibrer la conscience de la vie dan
 s nos chairs en toute simplicité\, dans l'intensité de l'instant présen
 t.\nPendant 1 heure\, le propos\, la musique\, l’immersion et l’intera
 ction avec la vie du lieu permettent l’accès à ses propres perceptions
 \, sensations\, émotions. VIVANT stimule le lien à soi même pour accéd
 er au bien-être.\nL’expérience sensible enracine notre existence dans 
 le quotidien de notre incarnation. Se sentir être vivant\, c’est retrou
 ver son autonomie de penser et d’agir\, à l’écoute de ce qui est jus
 te et nécessaire pour soi-même.La vie n’est plus subie. Elle est vécu
 e dans la chair. L’élan vital active la créativité.Annick Cesbron : v
 oixEtienne Boisdron : accordéon\nRéservation au 02.41.57.32.32\, par mai
 l à contact@prieure-saint-remy.fr ou directement en ligne.\n\n\n[embed]h
 ttps://youtu.be/zIAWik1Xqts[/embed]
ATTACH;FMTTYPE=image/jpeg:https://www.prieure-saint-remy.fr/wp-content/upl
 oads/2025/12/Vivant-site.jpg
CATEGORIES:Spectacles (concerts, théâtres, contes)
END:VEVENT
BEGIN:VTIMEZONE
TZID:Europe/Paris
X-LIC-LOCATION:Europe/Paris
BEGIN:STANDARD
DTSTART:20251026T020000
TZOFFSETFROM:+0200
TZOFFSETTO:+0100
TZNAME:CET
END:STANDARD
END:VTIMEZONE
END:VCALENDAR